BEGIN:VCALENDAR
VERSION:2.0
PRODID:-//Philippine Bible Society - ECPv6.15.20//NONSGML v1.0//EN
CALSCALE:GREGORIAN
METHOD:PUBLISH
X-WR-CALNAME:Philippine Bible Society
X-ORIGINAL-URL:https://bible.org.ph
X-WR-CALDESC:Events for Philippine Bible Society
REFRESH-INTERVAL;VALUE=DURATION:PT1H
X-Robots-Tag:noindex
X-PUBLISHED-TTL:PT1H
BEGIN:VTIMEZONE
TZID:UTC
BEGIN:STANDARD
TZOFFSETFROM:+0000
TZOFFSETTO:+0000
TZNAME:UTC
DTSTART:20250101T000000
END:STANDARD
END:VTIMEZONE
BEGIN:VEVENT
DTSTART;TZID=UTC:20260420T093000
DTEND;TZID=UTC:20260420T120000
DTSTAMP:20260424T003755
CREATED:20260407T092953Z
LAST-MODIFIED:20260407T093254Z
UID:23664-1776677400-1776686400@bible.org.ph
SUMMARY:Together in His Word: A Fellowship for Pastors
DESCRIPTION:Together in His Word: A Fellowship for Pastors \n  \nDate: April 20\, 2026 (Monday)\nTime: 9:30 AM – 12:00 PM \n  \nVenue:\n3rd Floor\, PBS Ministry Center\,\n890 United Nations Avenue\,\nErmita\, Manila \n  \nRegistration: Free of charge \n  \nFor inquiries\, please contact:\nMs. Valerie\n0917 717 8106 \n 
URL:https://bible.org.ph/event/together-in-his-word-a-fellowship-for-pastors/
ATTACH;FMTTYPE=image/jpeg:https://bible.org.ph/wp-content/uploads/2026/04/2026-Together-in-His-Word.jpg
END:VEVENT
BEGIN:VEVENT
DTSTART;TZID=UTC:20260427T080000
DTEND;TZID=UTC:20260427T120000
DTSTAMP:20260424T003755
CREATED:20260415T063544Z
LAST-MODIFIED:20260415T065238Z
UID:23674-1777276800-1777291200@bible.org.ph
SUMMARY:The Relevance of the Bible in Modern Times – UN Avenue\, Manila
DESCRIPTION:Napakabigat ng mga pagsubok na pinagdaanan ni Job sa Biblia\, kaya naman umabot din siya sa puntong hindi na niya mapigilang ilabas ang lahat ng dinaraing ng kanyang puso: \n  \n“Karaingan ang aking pagkain\,\npagtitiis ang aking inumin.\nAng kinatatakutan ko ang siyang nangyari sa akin\, at ang pinakaaayawan ko ang dumating sa akin.”\n– Job 3:24-25 (MBB) \n  \nSamahan niyo kami para sa isang panibagong Bible Relevance in Modern Times Seminar kasama si Prof. Noli Mendoza na pinamagatang\, The Cry from the Ashes: When Faith Learns to Lament (Job 3). \n  \nNarito ang mga detalye:\n📅 April 27\, 2026\n⏰ 8:00 AM – 12:00 NN\n📍 3rd Floor\, PBS Ministry Center\n890 United Nations Avenue\, Ermita\, Manila\n📌 Mag-register na gamit ang QR code o link!\n🔗https://bit.ly/BRIMS-UNMANILA \n  \n#BRIMS #PHBibleSociety\n#MakingThBibleKnown #PBS
URL:https://bible.org.ph/event/the-relevance-of-the-bible-in-modern-times-un-avenue-manila/
CATEGORIES:BRIMS
ATTACH;FMTTYPE=image/jpeg:https://bible.org.ph/wp-content/uploads/2026/04/2026-BRIMS_The-Cry-from-the-Ashes-scaled.jpg
END:VEVENT
END:VCALENDAR