BEGIN:VCALENDAR
VERSION:2.0
PRODID:-//Philippine Bible Society - ECPv6.15.20//NONSGML v1.0//EN
CALSCALE:GREGORIAN
METHOD:PUBLISH
X-ORIGINAL-URL:https://bible.org.ph
X-WR-CALDESC:Events for Philippine Bible Society
REFRESH-INTERVAL;VALUE=DURATION:PT1H
X-Robots-Tag:noindex
X-PUBLISHED-TTL:PT1H
BEGIN:VTIMEZONE
TZID:UTC
BEGIN:STANDARD
TZOFFSETFROM:+0000
TZOFFSETTO:+0000
TZNAME:UTC
DTSTART:20240101T000000
END:STANDARD
END:VTIMEZONE
BEGIN:VEVENT
DTSTART;TZID=UTC:20250828T080000
DTEND;TZID=UTC:20250828T120000
DTSTAMP:20260423T213054
CREATED:20250804T074457Z
LAST-MODIFIED:20250812T090628Z
UID:20475-1756368000-1756382400@bible.org.ph
SUMMARY:BRIMS: Tarlac City
DESCRIPTION:Sapat na ba ang pagbabasa ng isang Bible verse para maunawaan natin ang ibig nitong sabihin? O mas maganda kayang basahin din ang buong chapter nito\, o buong book? 📖 \n  \nSamahan niyo kami para sa isang panibagong Bible Relevance in Modern Times Seminar kasama si Ptr. Noli Mendoza na pinamagatang\, Interpreting the Bible According to Context. \n  \nNarito ang mga detalye:\n📅 August 28\, 2025\n⏰ 8:00 AM – 12:00 NN\n📍 Tarlac First Baptist Church\nRomulo Boulevard Cor. Ramos Street\, Tarlac City\, Tarlac\n📌 Mag-register na gamit ang QR code o link!\n🔗https://bit.ly/PBS_Seminar
URL:https://bible.org.ph/event/bible-relevance-in-modern-times-seminar-august-28-2025-tarlac-city/
CATEGORIES:BRIMS
ATTACH;FMTTYPE=image/jpeg:https://bible.org.ph/wp-content/uploads/2025/08/2025-BRIMS_Interpreting-the-Bible-According-to-Context_Tarlac-City.jpg
END:VEVENT
END:VCALENDAR