BEGIN:VCALENDAR
VERSION:2.0
PRODID:-//Philippine Bible Society - ECPv6.15.20//NONSGML v1.0//EN
CALSCALE:GREGORIAN
METHOD:PUBLISH
X-ORIGINAL-URL:https://bible.org.ph
X-WR-CALDESC:Events for Philippine Bible Society
REFRESH-INTERVAL;VALUE=DURATION:PT1H
X-Robots-Tag:noindex
X-PUBLISHED-TTL:PT1H
BEGIN:VTIMEZONE
TZID:UTC
BEGIN:STANDARD
TZOFFSETFROM:+0000
TZOFFSETTO:+0000
TZNAME:UTC
DTSTART:20240101T000000
END:STANDARD
END:VTIMEZONE
BEGIN:VEVENT
DTSTART;TZID=UTC:20250818T080000
DTEND;TZID=UTC:20250818T120000
DTSTAMP:20260423T213545
CREATED:20250721T020131Z
LAST-MODIFIED:20250812T090716Z
UID:20071-1755504000-1755518400@bible.org.ph
SUMMARY:BRIMS: UN Manila
DESCRIPTION:Ano-ano kaya ang pwede nating matutunan mula sa mga nilikha ng Diyos\, tulad ng isang langgam? 🐜 \n  \nSamahan niyo kami para sa isang panibagong Bible Relevance in Modern Times Seminar kasama si Ptr. Noli Mendoza na pinamagatang\, Consider the Ant: The Importance of the Ordinary – Godly Wisdom Through Observation in the Book of Proverbs. \n  \nNarito ang mga detalye:\n📅 August 18\, 2025\n⏰ 8:00 AM – 12:00 NN\n📍 3rd Floor\, PBS Ministry Center\n890 United Nations Avenue\, Ermita\, Manila\n📌 Mag-register na gamit ang QR code o link!\n🔗https://bit.ly/BRIMS-Manila \n#PHBibleSociety #BRIMS #BibleHouse
URL:https://bible.org.ph/event/bible-relevance-in-modern-times-seminar-consider-the-ant-the-importance-of-the-ordinary-godly-wisdom-through-observation-in-the-book-of-proverbs/
CATEGORIES:BRIMS
ATTACH;FMTTYPE=image/jpeg:https://bible.org.ph/wp-content/uploads/2025/07/2025-BRIMS_Consider-the-Ant.jpg
END:VEVENT
BEGIN:VEVENT
DTSTART;TZID=UTC:20250818T080000
DTEND;TZID=UTC:20250822T170000
DTSTAMP:20260423T213545
CREATED:20250708T023224Z
LAST-MODIFIED:20250730T093316Z
UID:19968-1755504000-1755882000@bible.org.ph
SUMMARY:Cuyonon Old Testament Translation Workshop
DESCRIPTION:
URL:https://bible.org.ph/event/cuyonon-old-testament-translation-workshop/
ATTACH;FMTTYPE=image/png:https://bible.org.ph/wp-content/uploads/2025/07/1.png
END:VEVENT
END:VCALENDAR