BEGIN:VCALENDAR
VERSION:2.0
PRODID:-//Philippine Bible Society - ECPv6.15.20//NONSGML v1.0//EN
CALSCALE:GREGORIAN
METHOD:PUBLISH
X-WR-CALNAME:Philippine Bible Society
X-ORIGINAL-URL:https://bible.org.ph
X-WR-CALDESC:Events for Philippine Bible Society
REFRESH-INTERVAL;VALUE=DURATION:PT1H
X-Robots-Tag:noindex
X-PUBLISHED-TTL:PT1H
BEGIN:VTIMEZONE
TZID:UTC
BEGIN:STANDARD
TZOFFSETFROM:+0000
TZOFFSETTO:+0000
TZNAME:UTC
DTSTART:20240101T000000
END:STANDARD
END:VTIMEZONE
BEGIN:VEVENT
DTSTART;TZID=UTC:20250630T130000
DTEND;TZID=UTC:20250630T170000
DTSTAMP:20260423T153050
CREATED:20250602T065748Z
LAST-MODIFIED:20250602T065842Z
UID:19687-1751288400-1751302800@bible.org.ph
SUMMARY:Pagdiriwang ng Buhay: A Creation Care Forum
DESCRIPTION:Sa mga bundok at dagat\,sa taas nito at alat\,ano nga bang mahahanap?Isa ang Pilipinas sa may pinakamayamang saribuhay o pinaka-biodiverse na bansa sa buong mundo. Ibig sabihin\, napakaraming klase ng mga hayop\, halaman\, at iba pang buháy na organismo ang matatagpuan dito sa ating bansa—mula sa mga nabubuhay sa tubig\, mga lumilipad sa himpapawid\, mga madalas nating makita sa lupa at mga mailap\, maliliit o malalaki\, hanggang sa mga organismong masisilip lang sa microscope!Kaya sa gitna ng mga problemang pangkalikasan gaya ng habitat loss at overexploitation ng resources\, sama-sama pa rin nating ipagdiwang ang mga likas na yamang bigay ng Diyos sa ating bayan\, at alamin kung paano tayo pwedeng maging kabahagi sa pag-aalaga at pag-iingat nito.Mag-register na sa Pagdiriwang ng Buhay: A Forum on Creation Care—isang special event kung saan makakasama natin sina Prof. Carmela P. Española at Ptr. Noli P. Mendoza upang matuto\, makialam\, at makibahagi sa pagdiriwang at pangangalaga ng ating kalikasan. June 30\, 2025 1:00–5:00 PM 14th Floor\, PBS Tower\, United Nations Avenue\, Ermita\, Manila FREE REGISTRATION: https://bit.ly/PBS_CreationCareForum
URL:https://bible.org.ph/event/pagdiriwang-ng-buhay-a-creation-care-forum/
ATTACH;FMTTYPE=image/jpeg:https://bible.org.ph/wp-content/uploads/2025/06/501274184_1113022894185328_5343365942738943420_n.jpg
END:VEVENT
END:VCALENDAR